BEGIN:VCALENDAR
VERSION:2.0
PRODID:-//hacksw/handcal//NONSGML v1.0//EN
BEGIN:VEVENT
SUMMARY:COURS 25
UID:9a985945-12a8-4d0f-bec0-1e5c170d73e9
DTSTART:20260428T220000Z
DTEND:20260429T220000Z
LOCATION:Localisation   
CATEGORIES:Entrainement
STATUS:
DESCRIPTION:<ul>
 	<li>
 	<address><strong><em>DEBUTANT</em></strong></address>
 	</li>
 </ul>
 
 <address><strong><em>​​​​​​​</em></strong><a
 href="https://youtu.be/GvLaE2Z7PLw?si=aGS7or36aB7CcuSH"
 target="_blank" rel="noreferrer noopener">TIPPIN' IT UP </a> <a
 href="https://youtu.be/IuWJTweA8Ws?si=zOXZKBND56MAgLwT"
 target="_blank" rel="noreferrer noopener">DEMO</a>   PC National
 25   <a
 href="https://admin.sportsregions.fr/media/uploaded/sites/18478/kcupload/files/tippin-it-up-fr.pdf"
 target="_blank" rel="noreferrer
 noopener">PDF</a></address>
 
 <address><strong><a
 href="https://youtu.be/EsmK2iJ6_No?si=P3h38PrBQOmR4EoM"
 target="_blank" rel="noreferrer noopener">LOVE POTION 666</a> (N) <a
 href="https://youtu.be/WTulPnQ-lTo?si=9cXIO12_pPBKhPWj"
 target="_blank" rel="noreferrer noopener">DEMO</a>
 PDF</strong></address>
 
 <address><a
 href="https://youtu.be/rU1QSsMkb1A?si=sBu2pGiMM6XL6d0K"
 target="_blank" rel="noreferrer noopener">NOT YOUR MAN
 EZ </a>  <strong>  <a
 href="https://admin.sportsregions.fr/media/uploaded/sites/18478/kcupload/files/not-your-man-ez-fr.pdf"
 target="_blank" rel="noreferrer
 noopener">PDF</a></strong></address>
 
 <address><a
 href="https://youtu.be/Hj0N1dlORZM?si=pKq2cXi661R3_M0u"
 target="_blank" rel="noreferrer noopener">TURN IT ON </a>  <a
 href="https://admin.sportsregions.fr/media/uploaded/sites/18478/kcupload/files/turn-it-on-fr%20(1).pdf"
 target="_blank" rel="noreferrer
 noopener"><strong>PDF</strong></a></address>
 
 <ul>
 	<li><strong><em>INITIES</em></strong></li>
 </ul>
 
 <address><strong><em>​​​​​​​</em></strong><em>​​​​​​​<a
 href="https://youtu.be/4cCe-trZmp4?si=vGUQ7nBTdFNoqDn7"
 target="_blank" rel="noreferrer noopener">HEAR IT FROM
 ME </a></em><em> <a
 href="https://youtu.be/VV4iJTAuz1M?si=ACZNMHq5u-wMcG0C"
 target="_blank" rel="noreferrer noopener">DEMO </a> </em>( RACO
 2025) <strong><a
 href="https://admin.sportsregions.fr/media/uploaded/sites/18478/kcupload/files/hear-it-from-me-fr.pdf"
 target="_blank" rel="noreferrer
 noopener">PDF</a></strong></address>
 
 <address><a
 href="https://youtu.be/Ps_NJc6g1ts?si=YShWgztM0s3YnaVx"
 target="_blank" rel="noreferrer noopener">FALLIN' IN LOVE </a> <a
 href="https://youtu.be/nIg3hJ32HD4?si=y7Vs8kmYYHazdpZB"
 target="_blank" rel="noreferrer noopener">DEMO </a> <strong><a
 href="https://admin.sportsregions.fr/media/uploaded/sites/18478/kcupload/files/fallin-in-love-fr.pdf"
 target="_blank" rel="noreferrer
 noopener">PDF</a></strong></address>
 
 <address><a
 href="https://youtu.be/d4EYHm81DyE?si=A5d2bf0wDsnlK9aM"
 target="_blank" rel="noreferrer noopener">WOAH ! GOOD
 THINGS </a>  <a
 href="https://youtu.be/ukQ0bK9KB94?si=3WJ3IqYV3OhufNoU"
 target="_blank" rel="noreferrer noopener">DEMO</a>   <a
 href="https://admin.sportsregions.fr/media/uploaded/sites/18478/kcupload/files/woah-good-things-fr.pdf"
 target="_blank" rel="noreferrer
 noopener"><strong>PDF</strong></a></address>
 
 <address><em><a
 href="https://youtu.be/tlvAcPctKhY?si=3TSaUsyigdH03_M3"
 target="_blank" rel="noreferrer noopener">RATTLESNAKE KISS</a>   <a
 href="https://youtu.be/2T9XTX_idjQ?si=Gqau6oQcowoyy2T8"
 target="_blank" rel="noreferrer
 noopener">DEMO</a></em><strong><em>  </em></strong><a
 href="https://admin.sportsregions.fr/media/uploaded/sites/18478/kcupload/files/a-rattlesnake-kiss-fr.pdf"
 target="_blank" rel="noreferrer
 noopener"><strong><em>PDF</em></strong></a></address>
 
 <p>​​​​​​​</p>
URL;VALUE=URI:https://www.bluejeans49.fr/evenements/2026/04/29/cours-25-2443839
END:VEVENT
END:VCALENDAR
